BEGIN:VCALENDAR
VERSION:2.0
PRODID:-//Vanguard University - ECPv6.15.20//NONSGML v1.0//EN
CALSCALE:GREGORIAN
METHOD:PUBLISH
X-ORIGINAL-URL:https://give.vanguard.edu
X-WR-CALDESC:Events for Vanguard University
REFRESH-INTERVAL;VALUE=DURATION:PT1H
X-Robots-Tag:noindex
X-PUBLISHED-TTL:PT1H
BEGIN:VTIMEZONE
TZID:America/Los_Angeles
BEGIN:DAYLIGHT
TZOFFSETFROM:-0800
TZOFFSETTO:-0700
TZNAME:PDT
DTSTART:20230312T100000
END:DAYLIGHT
BEGIN:STANDARD
TZOFFSETFROM:-0700
TZOFFSETTO:-0800
TZNAME:PST
DTSTART:20231105T090000
END:STANDARD
BEGIN:DAYLIGHT
TZOFFSETFROM:-0800
TZOFFSETTO:-0700
TZNAME:PDT
DTSTART:20240310T100000
END:DAYLIGHT
BEGIN:STANDARD
TZOFFSETFROM:-0700
TZOFFSETTO:-0800
TZNAME:PST
DTSTART:20241103T090000
END:STANDARD
BEGIN:DAYLIGHT
TZOFFSETFROM:-0800
TZOFFSETTO:-0700
TZNAME:PDT
DTSTART:20250309T100000
END:DAYLIGHT
BEGIN:STANDARD
TZOFFSETFROM:-0700
TZOFFSETTO:-0800
TZNAME:PST
DTSTART:20251102T090000
END:STANDARD
END:VTIMEZONE
BEGIN:VEVENT
DTSTART;TZID=America/Los_Angeles:20240106T173000
DTEND;TZID=America/Los_Angeles:20240106T173000
DTSTAMP:20260423T051439
CREATED:20231121T174129Z
LAST-MODIFIED:20231121T174130Z
UID:6553-1704562200-1704562200@give.vanguard.edu
SUMMARY:Women's Basketball Game
DESCRIPTION:January 6\, 2024 at 5:30 p.m.\n\n\n\n\n\n\n\n\n\n\n\n\n\n\n\nJoin us as VU Women’s Basketball takes on The Master’s at 7:30 p.m. in the Orange Coast College Gym
URL:https://give.vanguard.edu/event/womens-basketball-game-5/
END:VEVENT
BEGIN:VEVENT
DTSTART;TZID=America/Los_Angeles:20240106T193000
DTEND;TZID=America/Los_Angeles:20240106T193000
DTSTAMP:20260423T051439
CREATED:20231213T174029Z
LAST-MODIFIED:20231213T174030Z
UID:6753-1704569400-1704569400@give.vanguard.edu
SUMMARY:Men's Basketball Game
DESCRIPTION:January 6\, 2024 at 7:30 p.m.\n\n\n\n\n\n\n\n\n\n\n\n\n\n\n\nJoin us as VU Men’s Basketball takes on The Masters University at 7:30 p.m. in the Orange Coast College Gym.
URL:https://give.vanguard.edu/event/mens-basketball-game-6/
END:VEVENT
BEGIN:VEVENT
DTSTART;TZID=America/Los_Angeles:20240110T150000
DTEND;TZID=America/Los_Angeles:20240110T150000
DTSTAMP:20260423T051439
CREATED:20231208T160656Z
LAST-MODIFIED:20231208T160658Z
UID:6741-1704898800-1704898800@give.vanguard.edu
SUMMARY:Arizona Alumni Dinner
DESCRIPTION:January 10\, 2024 at 3 p.m.\n\n\n\n\n\n\n\n\n\n\n\n\n\n\n\nVanguard University is visiting Arizona\, and you are invited to attend one of the following dinners as a guest of President Michael Beals and Vice President Justin McIntee.  \n\n\n\nWednesday\, January 10 at 3:00 pm at The Olive Garden\, 4868 E Cactus Rd\, Scottsdale\, AZ 85254  \n\n\n\nRSVP Here
URL:https://give.vanguard.edu/event/arizona-alumni-dinner-2/
END:VEVENT
BEGIN:VEVENT
DTSTART;TZID=America/Los_Angeles:20240111T173000
DTEND;TZID=America/Los_Angeles:20240111T173000
DTSTAMP:20260423T051439
CREATED:20231121T174100Z
LAST-MODIFIED:20240108T172520Z
UID:6555-1704994200-1704994200@give.vanguard.edu
SUMMARY:Women's Basketball Game
DESCRIPTION:January 11\, 2023 at 5:30 p.m.\n\n\n\n\n\n\n\n\n\n\n\n\n\n\n\nJoin us as VU Women’s Basketball takes on Jessup at 5:30 p.m. in the Orange Coast College Gym
URL:https://give.vanguard.edu/event/womens-basketball-game-4/
END:VEVENT
BEGIN:VEVENT
DTSTART;TZID=America/Los_Angeles:20240111T180000
DTEND;TZID=America/Los_Angeles:20240111T180000
DTSTAMP:20260423T051439
CREATED:20231208T160615Z
LAST-MODIFIED:20231208T160617Z
UID:6746-1704996000-1704996000@give.vanguard.edu
SUMMARY:Arizona Alumni Dinner
DESCRIPTION:January 11\, 2024 at 6 p.m.\n\n\n\n\n\n\n\n\n\n\n\n\n\n\n\nVanguard University is visiting Arizona\, and you are invited to attend one of the following dinners as a guest of President Michael Beals and Vice President Justin McIntee.  \n\n\n\nThursday\, January 11 at 6:00 pm at Manuel’s Mexican Restaurant\, 2350 E. Southern Avenue\, Tempe\, AZ  \n\n\n\nRSVP Here
URL:https://give.vanguard.edu/event/arizona-alumni-dinner/
END:VEVENT
BEGIN:VEVENT
DTSTART;TZID=America/Los_Angeles:20240111T190000
DTEND;TZID=America/Los_Angeles:20240111T190000
DTSTAMP:20260423T051439
CREATED:20231213T174147Z
LAST-MODIFIED:20231213T174148Z
UID:6755-1704999600-1704999600@give.vanguard.edu
SUMMARY:Men‘s Wrestling Match
DESCRIPTION:January 11\, 2024 at 7 p.m.\n\n\n\n\n\n\n\n\n\n\n\n\n\n\n\nJoin us as VU Men’s Wrestling takes on San Francisco State University at 7 p.m. in the Seymour Sanctuary at VU.
URL:https://give.vanguard.edu/event/mens-wrestling-match-2/
END:VEVENT
BEGIN:VEVENT
DTSTART;TZID=America/Los_Angeles:20240111T193000
DTEND;TZID=America/Los_Angeles:20240111T193000
DTSTAMP:20260423T051439
CREATED:20231213T174358Z
LAST-MODIFIED:20231213T174358Z
UID:6757-1705001400-1705001400@give.vanguard.edu
SUMMARY:Men’s Basketball Game
DESCRIPTION:January 11\, 2024 at 7:30 p.m.\n\n\n\n\n\n\n\n\n\n\n\n\n\n\n\nJoin us as VU Men’s Basketball takes on Jessup University at 7:30 p.m. in the Orange Coast College Gym.
URL:https://give.vanguard.edu/event/mens-basketball-game-7/
END:VEVENT
BEGIN:VEVENT
DTSTART;TZID=America/Los_Angeles:20240113T120000
DTEND;TZID=America/Los_Angeles:20240113T120000
DTSTAMP:20260423T051439
CREATED:20231121T174035Z
LAST-MODIFIED:20240108T172722Z
UID:6558-1705147200-1705147200@give.vanguard.edu
SUMMARY:Women's Basketball Game
DESCRIPTION:January 13\, 2023 at 12 p.m.\n\n\n\n\n\n\n\n\n\n\n\n\n\n\n\nJoin us as VU Women’s Basketball takes on Menlo at 12 p.m. in the Orange Coast College Gym
URL:https://give.vanguard.edu/event/womens-basketball-game-3/
END:VEVENT
BEGIN:VEVENT
DTSTART;TZID=America/Los_Angeles:20240113T140000
DTEND;TZID=America/Los_Angeles:20240113T140000
DTSTAMP:20260423T051439
CREATED:20231213T174557Z
LAST-MODIFIED:20231213T174558Z
UID:6759-1705154400-1705154400@give.vanguard.edu
SUMMARY:Men’s Basketball Game
DESCRIPTION:January 13\, 2024 at 2 p.m.\n\n\n\n\n\n\n\n\n\n\n\n\n\n\n\nJoin us as VU Men’s Basketball takes on Menlo College at 2 p.m. in the Orange Coast College Gym.
URL:https://give.vanguard.edu/event/mens-basketball-game-8/
END:VEVENT
BEGIN:VEVENT
DTSTART;TZID=America/Los_Angeles:20240125T173000
DTEND;TZID=America/Los_Angeles:20240125T173000
DTSTAMP:20260423T051439
CREATED:20231213T180058Z
LAST-MODIFIED:20240126T002008Z
UID:6765-1706203800-1706203800@give.vanguard.edu
SUMMARY:Women’s Basketball Game
DESCRIPTION:January 25\, 2024 at 5:30 p.m.\n\n\n\n\n\n\n\n\n\n\n\n\n\n\n\nJoin us as VU Women’s Basketball takes on Arizona Christian University at 5:30 p.m. in the Orange Coast College Gym.
URL:https://give.vanguard.edu/event/womens-basketball-game-7/
END:VEVENT
BEGIN:VEVENT
DTSTART;TZID=America/Los_Angeles:20240125T193000
DTEND;TZID=America/Los_Angeles:20240125T193000
DTSTAMP:20260423T051439
CREATED:20231213T174715Z
LAST-MODIFIED:20240126T002004Z
UID:6768-1706211000-1706211000@give.vanguard.edu
SUMMARY:Men’s Basketball Game
DESCRIPTION:January 25\, 2024 at 7:30 p.m.\n\n\n\n\n\n\n\n\n\n\n\n\n\n\n\nJoin us as VU Men’s Basketball takes on Arizona Christian University at 7:30 p.m. in the Orange Coast College Gym.
URL:https://give.vanguard.edu/event/mens-basketball-game-9/
END:VEVENT
BEGIN:VEVENT
DTSTART;TZID=America/Los_Angeles:20240127T120000
DTEND;TZID=America/Los_Angeles:20240127T120000
DTSTAMP:20260423T051439
CREATED:20231213T175004Z
LAST-MODIFIED:20240126T001959Z
UID:6770-1706356800-1706356800@give.vanguard.edu
SUMMARY:Women’s Basketball Game
DESCRIPTION:January 27\, 2024 at 12 p.m.\n\n\n\n\n\n\n\n\n\n\n\n\n\n\n\nJoin us as VU Women’s Basketball takes on Ottawa University of Arizona at 12 p.m. in the Orange Coast College Gym.
URL:https://give.vanguard.edu/event/womens-basketball-game-6/
END:VEVENT
BEGIN:VEVENT
DTSTART;TZID=America/Los_Angeles:20240127T140000
DTEND;TZID=America/Los_Angeles:20240127T140000
DTSTAMP:20260423T051439
CREATED:20231213T175043Z
LAST-MODIFIED:20240126T001955Z
UID:6772-1706364000-1706364000@give.vanguard.edu
SUMMARY:Men’s Basketball Game
DESCRIPTION:January 27\, 2024 at 2 p.m.\n\n\n\n\n\n\n\n\n\n\n\n\n\n\n\nJoin us as VU Men’s Basketball takes on Ottawa University of Arizona at 2 p.m. in the Orange Coast College Gym.
URL:https://give.vanguard.edu/event/mens-basketball-game-10/
END:VEVENT
END:VCALENDAR